Package: mina Version: 1.15.0 Command: E:\biocbuild\bbs-3.21-bioc\R\bin\R.exe CMD check --no-multiarch --install=check:mina.install-out.txt --library=E:\biocbuild\bbs-3.21-bioc\R\library --no-vignettes --timings mina_1.15.0.tar.gz StartedAt: 2025-02-10 02:57:49 -0500 (Mon, 10 Feb 2025) EndedAt: 2025-02-10 03:02:29 -0500 (Mon, 10 Feb 2025) EllapsedTime: 279.6 seconds RetCode: 0 Status: WARNINGS CheckDir: mina.Rcheck Warnings: 1