Package: mina Version: 1.15.0 Command: E:\biocbuild\bbs-3.21-bioc\R\bin\R.exe CMD INSTALL mina StartedAt: 2025-02-12 15:42:33 -0500 (Wed, 12 Feb 2025) EndedAt: 2025-02-12 15:43:50 -0500 (Wed, 12 Feb 2025) EllapsedTime: 76.6 seconds RetCode: 0 Status: OK