Package: minet Version: 3.65.0 Command: rm -rf minet.buildbin-libdir && mkdir minet.buildbin-libdir && /Users/biocbuild/BBS/utils/build-universal.sh minet_3.65.0.tar.gz /Library/Frameworks/R.framework/Resources/bin/R minet.buildbin-libdir StartedAt: 2025-02-09 22:21:15 -0500 (Sun, 09 Feb 2025) EndedAt: 2025-02-09 22:21:19 -0500 (Sun, 09 Feb 2025) EllapsedTime: 4.1 seconds RetCode: 0 Status: OK PackageFile: minet_3.65.0.tgz PackageFileSize: 93.74 KiB