Package: minet Version: 3.65.0 Command: /Library/Frameworks/R.framework/Resources/bin/R CMD build --keep-empty-dirs --no-resave-data minet StartedAt: 2025-02-09 16:57:01 -0500 (Sun, 09 Feb 2025) EndedAt: 2025-02-09 16:57:02 -0500 (Sun, 09 Feb 2025) EllapsedTime: 1.0 seconds RetCode: 0 Status: OK PackageFile: minet_3.65.0.tar.gz PackageFileSize: 50.13 KiB