Package: minet Version: 3.65.0 Command: /home/biocbuild/R/R/bin/R CMD build --keep-empty-dirs --no-resave-data minet StartedAt: 2025-01-29 00:21:31 -0000 (Wed, 29 Jan 2025) EndedAt: 2025-01-29 00:21:32 -0000 (Wed, 29 Jan 2025) EllapsedTime: 1.0 seconds RetCode: 0 Status: OK PackageFile: minet_3.65.0.tar.gz PackageFileSize: 50.13 KiB