Package: minet Version: 3.65.0 Command: /home/biocbuild/R/R/bin/R CMD INSTALL minet StartedAt: 2025-01-29 20:29:26 -0000 (Wed, 29 Jan 2025) EndedAt: 2025-01-29 20:29:33 -0000 (Wed, 29 Jan 2025) EllapsedTime: 7.5 seconds RetCode: 0 Status: OK