Package: minet Version: 3.65.0 Command: rm -rf minet.buildbin-libdir && mkdir minet.buildbin-libdir && /Users/biocbuild/BBS/utils/build-universal.sh minet_3.65.0.tar.gz /Library/Frameworks/R.framework/Resources/bin/R minet.buildbin-libdir StartedAt: 2025-02-05 00:49:04 -0500 (Wed, 05 Feb 2025) EndedAt: 2025-02-05 00:49:15 -0500 (Wed, 05 Feb 2025) EllapsedTime: 10.4 seconds RetCode: 0 Status: OK PackageFile: minet_3.65.0.tgz PackageFileSize: 94.13 KiB