Package: minet Version: 3.65.0 Command: /Library/Frameworks/R.framework/Resources/bin/R CMD build --keep-empty-dirs --no-resave-data minet StartedAt: 2025-02-04 17:22:33 -0500 (Tue, 04 Feb 2025) EndedAt: 2025-02-04 17:22:34 -0500 (Tue, 04 Feb 2025) EllapsedTime: 1.2 seconds RetCode: 0 Status: OK PackageFile: minet_3.65.0.tar.gz PackageFileSize: 50.13 KiB