Package: minet Version: 3.65.0 Command: /Library/Frameworks/R.framework/Resources/bin/R CMD INSTALL minet StartedAt: 2025-02-04 15:39:38 -0500 (Tue, 04 Feb 2025) EndedAt: 2025-02-04 15:39:47 -0500 (Tue, 04 Feb 2025) EllapsedTime: 8.5 seconds RetCode: 0 Status: OK