Package: minet Version: 3.65.0 Command: E:\biocbuild\bbs-3.21-bioc\R\bin\R.exe CMD check --no-multiarch --install=check:minet.install-out.txt --library=E:\biocbuild\bbs-3.21-bioc\R\library --no-vignettes --timings minet_3.65.0.tar.gz StartedAt: 2025-02-05 03:24:58 -0500 (Wed, 05 Feb 2025) EndedAt: 2025-02-05 03:25:27 -0500 (Wed, 05 Feb 2025) EllapsedTime: 29.3 seconds RetCode: 0 Status: OK CheckDir: minet.Rcheck Warnings: 0