Package: mirIntegrator Version: 1.37.0 Command: rm -rf mirIntegrator.buildbin-libdir && mkdir mirIntegrator.buildbin-libdir && /Users/biocbuild/BBS/utils/build-universal.sh mirIntegrator_1.37.0.tar.gz /Library/Frameworks/R.framework/Resources/bin/R mirIntegrator.buildbin-libdir StartedAt: 2025-02-10 01:03:03 -0500 (Mon, 10 Feb 2025) EndedAt: 2025-02-10 01:03:27 -0500 (Mon, 10 Feb 2025) EllapsedTime: 24.3 seconds RetCode: 0 Status: OK PackageFile: mirIntegrator_1.37.0.tgz PackageFileSize: 1.843 MiB