Package: mirIntegrator Version: 1.37.0 Command: /Library/Frameworks/R.framework/Resources/bin/R CMD build --keep-empty-dirs --no-resave-data mirIntegrator StartedAt: 2025-02-09 17:28:02 -0500 (Sun, 09 Feb 2025) EndedAt: 2025-02-09 17:29:22 -0500 (Sun, 09 Feb 2025) EllapsedTime: 80.1 seconds RetCode: 0 Status: OK PackageFile: mirIntegrator_1.37.0.tar.gz PackageFileSize: 1.808 MiB