Package: mirIntegrator Version: 1.37.0 Command: /home/biocbuild/bbs-3.21-bioc/R/bin/R CMD INSTALL mirIntegrator StartedAt: 2025-02-09 15:26:46 -0500 (Sun, 09 Feb 2025) EndedAt: 2025-02-09 15:27:01 -0500 (Sun, 09 Feb 2025) EllapsedTime: 14.7 seconds RetCode: 0 Status: OK