Package: mirTarRnaSeq Version: 1.15.0 Command: /home/biocbuild/R/R/bin/R CMD build --keep-empty-dirs --no-resave-data mirTarRnaSeq StartedAt: 2025-01-29 00:23:52 -0000 (Wed, 29 Jan 2025) EndedAt: 2025-01-29 00:28:09 -0000 (Wed, 29 Jan 2025) EllapsedTime: 256.1 seconds RetCode: 0 Status: OK PackageFile: mirTarRnaSeq_1.15.0.tar.gz PackageFileSize: 3.421 MiB