Package: mirTarRnaSeq Version: 1.15.0 Command: /home/biocbuild/R/R/bin/R CMD check --install=check:mirTarRnaSeq.install-out.txt --library=/home/biocbuild/R/R/site-library --no-vignettes --timings mirTarRnaSeq_1.15.0.tar.gz StartedAt: 2025-01-28 12:34:15 -0000 (Tue, 28 Jan 2025) EndedAt: 2025-01-28 12:35:20 -0000 (Tue, 28 Jan 2025) EllapsedTime: 65.1 seconds RetCode: 0 Status: OK CheckDir: mirTarRnaSeq.Rcheck Warnings: 0