Package: mirTarRnaSeq Version: 1.15.0 Command: /home/biocbuild/R/R/bin/R CMD INSTALL mirTarRnaSeq StartedAt: 2025-01-29 19:37:08 -0000 (Wed, 29 Jan 2025) EndedAt: 2025-01-29 19:37:22 -0000 (Wed, 29 Jan 2025) EllapsedTime: 14.4 seconds RetCode: 0 Status: OK