Package: mirTarRnaSeq Version: 1.15.0 Command: /home/biocbuild/bbs-3.21-bioc/R/bin/R CMD INSTALL mirTarRnaSeq StartedAt: 2025-02-09 15:09:04 -0500 (Sun, 09 Feb 2025) EndedAt: 2025-02-09 15:09:12 -0500 (Sun, 09 Feb 2025) EllapsedTime: 8.2 seconds RetCode: 0 Status: OK