Package: mirTarRnaSeq Version: 1.15.0 Command: E:\biocbuild\bbs-3.21-bioc\R\bin\R.exe CMD INSTALL mirTarRnaSeq StartedAt: 2025-02-09 15:31:35 -0500 (Sun, 09 Feb 2025) EndedAt: 2025-02-09 15:33:21 -0500 (Sun, 09 Feb 2025) EllapsedTime: 105.8 seconds RetCode: 0 Status: OK