Package: missMethyl Version: 1.41.0 Command: rm -rf missMethyl.buildbin-libdir && mkdir missMethyl.buildbin-libdir && /Users/biocbuild/BBS/utils/build-universal.sh missMethyl_1.41.0.tar.gz /Library/Frameworks/R.framework/Resources/bin/R missMethyl.buildbin-libdir StartedAt: 2025-02-12 22:26:44 -0500 (Wed, 12 Feb 2025) EndedAt: 2025-02-12 22:29:45 -0500 (Wed, 12 Feb 2025) EllapsedTime: 180.7 seconds RetCode: 0 Status: OK PackageFile: missMethyl_1.41.0.tgz PackageFileSize: 1.612 MiB