Package: missMethyl Version: 1.41.0 Command: /Library/Frameworks/R.framework/Resources/bin/R CMD INSTALL missMethyl StartedAt: 2025-02-09 15:44:55 -0500 (Sun, 09 Feb 2025) EndedAt: 2025-02-09 15:49:31 -0500 (Sun, 09 Feb 2025) EllapsedTime: 275.9 seconds RetCode: 0 Status: OK