Package: missMethyl Version: 1.41.0 Command: /home/biocbuild/bbs-3.21-bioc/R/bin/R CMD check --install=check:missMethyl.install-out.txt --library=/home/biocbuild/bbs-3.21-bioc/R/site-library --timings missMethyl_1.41.0.tar.gz StartedAt: 2025-02-13 00:15:43 -0500 (Thu, 13 Feb 2025) EndedAt: 2025-02-13 00:50:43 -0500 (Thu, 13 Feb 2025) EllapsedTime: 2099.8 seconds RetCode: 0 Status: WARNINGS CheckDir: missMethyl.Rcheck Warnings: 1