Package: missMethyl Version: 1.41.0 Command: chmod a+r missMethyl -R && E:\biocbuild\bbs-3.21-bioc\R\bin\R.exe CMD build --keep-empty-dirs --no-resave-data missMethyl StartedAt: 2025-02-09 19:57:32 -0500 (Sun, 09 Feb 2025) EndedAt: 2025-02-09 20:19:37 -0500 (Sun, 09 Feb 2025) EllapsedTime: 1324.8 seconds RetCode: 0 Status: OK PackageFile: missMethyl_1.41.0.tar.gz PackageFileSize: 638.9 KiB