Package: missMethyl Version: 1.41.0 Command: E:\biocbuild\bbs-3.21-bioc\R\bin\R.exe CMD check --no-multiarch --install=check:missMethyl.install-out.txt --library=E:\biocbuild\bbs-3.21-bioc\R\library --no-vignettes --timings missMethyl_1.41.0.tar.gz StartedAt: 2025-02-10 03:01:45 -0500 (Mon, 10 Feb 2025) EndedAt: 2025-02-10 03:28:35 -0500 (Mon, 10 Feb 2025) EllapsedTime: 1610.0 seconds RetCode: 0 Status: WARNINGS CheckDir: missMethyl.Rcheck Warnings: 1