Package: missRows Version: 1.27.0 Command: /Library/Frameworks/R.framework/Resources/bin/R CMD build --keep-empty-dirs --no-resave-data missRows StartedAt: 2025-02-09 16:57:57 -0500 (Sun, 09 Feb 2025) EndedAt: 2025-02-09 16:58:43 -0500 (Sun, 09 Feb 2025) EllapsedTime: 45.5 seconds RetCode: 0 Status: OK PackageFile: missRows_1.27.0.tar.gz PackageFileSize: 608.7 KiB