Package: missRows Version: 1.27.0 Command: /home/biocbuild/R/R/bin/R CMD build --keep-empty-dirs --no-resave-data missRows StartedAt: 2025-01-29 00:23:53 -0000 (Wed, 29 Jan 2025) EndedAt: 2025-01-29 00:25:49 -0000 (Wed, 29 Jan 2025) EllapsedTime: 116.1 seconds RetCode: 0 Status: OK PackageFile: missRows_1.27.0.tar.gz PackageFileSize: 593.9 KiB