Package: missRows Version: 1.27.0 Command: /Library/Frameworks/R.framework/Resources/bin/R CMD build --keep-empty-dirs --no-resave-data missRows StartedAt: 2025-02-12 17:24:19 -0500 (Wed, 12 Feb 2025) EndedAt: 2025-02-12 17:26:16 -0500 (Wed, 12 Feb 2025) EllapsedTime: 116.6 seconds RetCode: 0 Status: OK PackageFile: missRows_1.27.0.tar.gz PackageFileSize: 608.6 KiB