Package: missRows Version: 1.27.0 Command: /Library/Frameworks/R.framework/Resources/bin/R CMD INSTALL missRows StartedAt: 2025-02-12 15:11:58 -0500 (Wed, 12 Feb 2025) EndedAt: 2025-02-12 15:12:36 -0500 (Wed, 12 Feb 2025) EllapsedTime: 37.5 seconds RetCode: 0 Status: OK