Package: missRows Version: 1.27.0 Command: E:\biocbuild\bbs-3.21-bioc\R\bin\R.exe CMD check --no-multiarch --install=check:missRows.install-out.txt --library=E:\biocbuild\bbs-3.21-bioc\R\library --no-vignettes --timings missRows_1.27.0.tar.gz StartedAt: 2025-02-10 03:01:57 -0500 (Mon, 10 Feb 2025) EndedAt: 2025-02-10 03:05:38 -0500 (Mon, 10 Feb 2025) EllapsedTime: 221.1 seconds RetCode: 0 Status: OK CheckDir: missRows.Rcheck Warnings: 0