Package: mistyR Version: 1.15.0 Command: /Library/Frameworks/R.framework/Resources/bin/R CMD INSTALL mistyR StartedAt: 2025-02-12 15:23:44 -0500 (Wed, 12 Feb 2025) EndedAt: 2025-02-12 15:23:46 -0500 (Wed, 12 Feb 2025) EllapsedTime: 2.1 seconds RetCode: 0 Status: OK