Package: mistyR Version: 1.15.0 Command: /home/biocbuild/R/R/bin/R CMD build --keep-empty-dirs --no-resave-data mistyR StartedAt: 2025-01-29 00:24:23 -0000 (Wed, 29 Jan 2025) EndedAt: 2025-01-29 00:27:19 -0000 (Wed, 29 Jan 2025) EllapsedTime: 176.1 seconds RetCode: 0 Status: OK PackageFile: mistyR_1.15.0.tar.gz PackageFileSize: 2.864 MiB