Package: mistyR Version: 1.15.0 Command: /home/biocbuild/bbs-3.21-bioc/R/bin/R CMD INSTALL mistyR StartedAt: 2025-02-09 15:10:21 -0500 (Sun, 09 Feb 2025) EndedAt: 2025-02-09 15:10:34 -0500 (Sun, 09 Feb 2025) EllapsedTime: 13.8 seconds RetCode: 0 Status: OK