Package: mnem Version: 1.23.0 Command: /Library/Frameworks/R.framework/Resources/bin/R CMD build --keep-empty-dirs --no-resave-data mnem StartedAt: 2025-02-12 17:25:20 -0500 (Wed, 12 Feb 2025) EndedAt: 2025-02-12 17:26:38 -0500 (Wed, 12 Feb 2025) EllapsedTime: 77.8 seconds RetCode: 0 Status: OK PackageFile: mnem_1.23.0.tar.gz PackageFileSize: 4.797 MiB