Package: mnem Version: 1.23.0 Command: /Library/Frameworks/R.framework/Resources/bin/R CMD check --install=check:mnem.install-out.txt --library=/Library/Frameworks/R.framework/Resources/library --no-vignettes --timings mnem_1.23.0.tar.gz StartedAt: 2025-02-12 21:47:13 -0500 (Wed, 12 Feb 2025) EndedAt: 2025-02-12 21:49:19 -0500 (Wed, 12 Feb 2025) EllapsedTime: 126.1 seconds RetCode: 0 Status: OK CheckDir: mnem.Rcheck Warnings: 0