Package: moanin Version: 1.15.0 Command: /home/biocbuild/R/R/bin/R CMD INSTALL moanin StartedAt: 2025-01-29 19:58:04 -0000 (Wed, 29 Jan 2025) EndedAt: 2025-01-29 19:58:51 -0000 (Wed, 29 Jan 2025) EllapsedTime: 47.0 seconds RetCode: 0 Status: OK