Package: moanin Version: 1.15.0 Command: /Library/Frameworks/R.framework/Resources/bin/R CMD build --keep-empty-dirs --no-resave-data moanin StartedAt: 2025-02-09 17:30:31 -0500 (Sun, 09 Feb 2025) EndedAt: 2025-02-09 17:31:48 -0500 (Sun, 09 Feb 2025) EllapsedTime: 77.7 seconds RetCode: 0 Status: OK PackageFile: moanin_1.15.0.tar.gz PackageFileSize: 555.6 KiB