Package: moanin Version: 1.15.0 Command: rm -rf moanin.buildbin-libdir && mkdir moanin.buildbin-libdir && E:\biocbuild\bbs-3.21-bioc\R\bin\R.exe CMD INSTALL --build --library=moanin.buildbin-libdir moanin_1.15.0.tar.gz StartedAt: 2025-02-10 08:10:45 -0500 (Mon, 10 Feb 2025) EndedAt: 2025-02-10 08:12:05 -0500 (Mon, 10 Feb 2025) EllapsedTime: 80.6 seconds RetCode: 0 Status: OK PackageFile: moanin_1.15.0.zip PackageFileSize: 927.3 KiB