Package: moanin Version: 1.15.0 Command: chmod a+r moanin -R && E:\biocbuild\bbs-3.21-bioc\R\bin\R.exe CMD build --keep-empty-dirs --no-resave-data moanin StartedAt: 2025-02-09 19:59:52 -0500 (Sun, 09 Feb 2025) EndedAt: 2025-02-09 20:01:40 -0500 (Sun, 09 Feb 2025) EllapsedTime: 107.7 seconds RetCode: 0 Status: OK PackageFile: moanin_1.15.0.tar.gz PackageFileSize: 477.5 KiB