Package: moanin Version: 1.15.0 Command: E:\biocbuild\bbs-3.21-bioc\R\bin\R.exe CMD check --no-multiarch --install=check:moanin.install-out.txt --library=E:\biocbuild\bbs-3.21-bioc\R\library --no-vignettes --timings moanin_1.15.0.tar.gz StartedAt: 2025-02-10 03:04:26 -0500 (Mon, 10 Feb 2025) EndedAt: 2025-02-10 03:10:30 -0500 (Mon, 10 Feb 2025) EllapsedTime: 363.9 seconds RetCode: 0 Status: OK CheckDir: moanin.Rcheck Warnings: 0