Package: mobileRNA Version: 1.3.0 Command: /Library/Frameworks/R.framework/Resources/bin/R CMD build --keep-empty-dirs --no-resave-data mobileRNA StartedAt: 2025-02-09 16:59:24 -0500 (Sun, 09 Feb 2025) EndedAt: 2025-02-09 16:59:59 -0500 (Sun, 09 Feb 2025) EllapsedTime: 34.4 seconds RetCode: 0 Status: OK PackageFile: mobileRNA_1.3.0.tar.gz PackageFileSize: 3.223 MiB