Package: mobileRNA Version: 1.3.0 Command: rm -rf mobileRNA.buildbin-libdir && mkdir mobileRNA.buildbin-libdir && /Users/biocbuild/BBS/utils/build-universal.sh mobileRNA_1.3.0.tar.gz /Library/Frameworks/R.framework/Resources/bin/R mobileRNA.buildbin-libdir StartedAt: 2025-02-10 01:03:29 -0500 (Mon, 10 Feb 2025) EndedAt: 2025-02-10 01:04:22 -0500 (Mon, 10 Feb 2025) EllapsedTime: 52.8 seconds RetCode: 0 Status: OK PackageFile: mobileRNA_1.3.0.tgz PackageFileSize: 3.358 MiB