Package: mobileRNA Version: 1.3.0 Command: /Library/Frameworks/R.framework/Resources/bin/R CMD build --keep-empty-dirs --no-resave-data mobileRNA StartedAt: 2025-02-09 17:30:31 -0500 (Sun, 09 Feb 2025) EndedAt: 2025-02-09 17:32:28 -0500 (Sun, 09 Feb 2025) EllapsedTime: 117.6 seconds RetCode: 0 Status: OK PackageFile: mobileRNA_1.3.0.tar.gz PackageFileSize: 3.222 MiB