Package: mobileRNA Version: 1.3.0 Command: /Library/Frameworks/R.framework/Resources/bin/R CMD check --install=check:mobileRNA.install-out.txt --library=/Library/Frameworks/R.framework/Resources/library --no-vignettes --timings mobileRNA_1.3.0.tar.gz StartedAt: 2025-02-09 22:00:32 -0500 (Sun, 09 Feb 2025) EndedAt: 2025-02-09 22:05:59 -0500 (Sun, 09 Feb 2025) EllapsedTime: 327.5 seconds RetCode: 0 Status: OK CheckDir: mobileRNA.Rcheck Warnings: 0