Package: mobileRNA Version: 1.3.0 Command: /Library/Frameworks/R.framework/Resources/bin/R CMD INSTALL mobileRNA StartedAt: 2025-02-09 15:29:32 -0500 (Sun, 09 Feb 2025) EndedAt: 2025-02-09 15:30:24 -0500 (Sun, 09 Feb 2025) EllapsedTime: 51.3 seconds RetCode: 0 Status: OK