Package: mobileRNA Version: 1.3.0 Command: /home/biocbuild/bbs-3.21-bioc/R/bin/R CMD build --keep-empty-dirs --no-resave-data mobileRNA StartedAt: 2025-02-09 18:12:13 -0500 (Sun, 09 Feb 2025) EndedAt: 2025-02-09 18:13:55 -0500 (Sun, 09 Feb 2025) EllapsedTime: 102.1 seconds RetCode: 0 Status: OK PackageFile: mobileRNA_1.3.0.tar.gz PackageFileSize: 3.261 MiB