Package: mobileRNA Version: 1.3.0 Command: rm -rf mobileRNA.buildbin-libdir && mkdir mobileRNA.buildbin-libdir && E:\biocbuild\bbs-3.21-bioc\R\bin\R.exe CMD INSTALL --build --library=mobileRNA.buildbin-libdir mobileRNA_1.3.0.tar.gz StartedAt: 2025-02-10 08:10:47 -0500 (Mon, 10 Feb 2025) EndedAt: 2025-02-10 08:12:12 -0500 (Mon, 10 Feb 2025) EllapsedTime: 84.7 seconds RetCode: 0 Status: OK PackageFile: mobileRNA_1.3.0.zip PackageFileSize: 2.998 MiB