Package: mobileRNA Version: 1.3.0 Command: chmod a+r mobileRNA -R && E:\biocbuild\bbs-3.21-bioc\R\bin\R.exe CMD build --keep-empty-dirs --no-resave-data mobileRNA StartedAt: 2025-02-09 19:59:58 -0500 (Sun, 09 Feb 2025) EndedAt: 2025-02-09 20:02:29 -0500 (Sun, 09 Feb 2025) EllapsedTime: 151.1 seconds RetCode: 0 Status: OK PackageFile: mobileRNA_1.3.0.tar.gz PackageFileSize: 2.858 MiB