Package: mogsa Version: 1.41.0 Command: /Library/Frameworks/R.framework/Resources/bin/R CMD build --keep-empty-dirs --no-resave-data mogsa StartedAt: 2025-02-09 16:59:43 -0500 (Sun, 09 Feb 2025) EndedAt: 2025-02-09 17:00:35 -0500 (Sun, 09 Feb 2025) EllapsedTime: 52.6 seconds RetCode: 0 Status: OK PackageFile: mogsa_1.41.0.tar.gz PackageFileSize: 775.2 KiB