Package: mogsa Version: 1.41.0 Command: /Library/Frameworks/R.framework/Resources/bin/R CMD INSTALL mogsa StartedAt: 2025-02-09 15:19:50 -0500 (Sun, 09 Feb 2025) EndedAt: 2025-02-09 15:19:59 -0500 (Sun, 09 Feb 2025) EllapsedTime: 8.8 seconds RetCode: 0 Status: OK