Package: mogsa Version: 1.41.0 Command: /home/biocbuild/R/R/bin/R CMD build --keep-empty-dirs --no-resave-data mogsa StartedAt: 2025-01-29 00:29:42 -0000 (Wed, 29 Jan 2025) EndedAt: 2025-01-29 00:32:15 -0000 (Wed, 29 Jan 2025) EllapsedTime: 153.1 seconds RetCode: 0 Status: OK PackageFile: mogsa_1.41.0.tar.gz PackageFileSize: 757.7 KiB