Package: mogsa Version: 1.41.0 Command: /home/biocbuild/R/R/bin/R CMD check --install=check:mogsa.install-out.txt --library=/home/biocbuild/R/R/site-library --no-vignettes --timings mogsa_1.41.0.tar.gz StartedAt: 2025-01-28 12:40:25 -0000 (Tue, 28 Jan 2025) EndedAt: 2025-01-28 12:43:53 -0000 (Tue, 28 Jan 2025) EllapsedTime: 208.2 seconds RetCode: 0 Status: OK CheckDir: mogsa.Rcheck Warnings: 0